BEGIN:VCALENDAR
VERSION:2.0
PRODID:-//Vereinigung der Sternfreunde e.V. - ECPv6.15.20//NONSGML v1.0//EN
CALSCALE:GREGORIAN
METHOD:PUBLISH
X-ORIGINAL-URL:https://sternfreunde.de
X-WR-CALDESC:Veranstaltungen für Vereinigung der Sternfreunde e.V.
REFRESH-INTERVAL;VALUE=DURATION:PT1H
X-Robots-Tag:noindex
X-PUBLISHED-TTL:PT1H
BEGIN:VTIMEZONE
TZID:Europe/Berlin
BEGIN:DAYLIGHT
TZOFFSETFROM:+0100
TZOFFSETTO:+0200
TZNAME:CEST
DTSTART:20210328T010000
END:DAYLIGHT
BEGIN:STANDARD
TZOFFSETFROM:+0200
TZOFFSETTO:+0100
TZNAME:CET
DTSTART:20211031T010000
END:STANDARD
BEGIN:DAYLIGHT
TZOFFSETFROM:+0100
TZOFFSETTO:+0200
TZNAME:CEST
DTSTART:20220327T010000
END:DAYLIGHT
BEGIN:STANDARD
TZOFFSETFROM:+0200
TZOFFSETTO:+0100
TZNAME:CET
DTSTART:20221030T010000
END:STANDARD
BEGIN:DAYLIGHT
TZOFFSETFROM:+0100
TZOFFSETTO:+0200
TZNAME:CEST
DTSTART:20230326T010000
END:DAYLIGHT
BEGIN:STANDARD
TZOFFSETFROM:+0200
TZOFFSETTO:+0100
TZNAME:CET
DTSTART:20231029T010000
END:STANDARD
END:VTIMEZONE
BEGIN:VEVENT
DTSTART;VALUE=DATE:20220422
DTEND;VALUE=DATE:20220425
DTSTAMP:20260424T141209
CREATED:20220813T101423Z
LAST-MODIFIED:20221123T191720Z
UID:8610-1650585600-1650844799@sternfreunde.de
SUMMARY:Frühjahrstreffen in Neu Göhren
DESCRIPTION:Familiäres Teleskoptreffen im Mecklenburgischen mit sehr guten Landhimmelbedingungen. Zweites Wochenende vom 29. April bis zum 1. Mai 2022.
URL:https://sternfreunde.de/event/fruehjahrstreffen-in-neu-goehren-2022/
LOCATION:Campingplatz Neu Göhren\, Bootsanleger und Campingplatz\, Neu Göhren\, 19294\, Deutschland
CATEGORIES:Teleskoptreffen
END:VEVENT
END:VCALENDAR