BEGIN:VCALENDAR
VERSION:2.0
PRODID:-//Vereinigung der Sternfreunde e.V. - ECPv6.15.18//NONSGML v1.0//EN
CALSCALE:GREGORIAN
METHOD:PUBLISH
X-WR-CALNAME:Vereinigung der Sternfreunde e.V.
X-ORIGINAL-URL:https://sternfreunde.de
X-WR-CALDESC:Veranstaltungen für Vereinigung der Sternfreunde e.V.
REFRESH-INTERVAL;VALUE=DURATION:PT1H
X-Robots-Tag:noindex
X-PUBLISHED-TTL:PT1H
BEGIN:VTIMEZONE
TZID:Europe/Berlin
BEGIN:DAYLIGHT
TZOFFSETFROM:+0100
TZOFFSETTO:+0200
TZNAME:CEST
DTSTART:20250330T010000
END:DAYLIGHT
BEGIN:STANDARD
TZOFFSETFROM:+0200
TZOFFSETTO:+0100
TZNAME:CET
DTSTART:20251026T010000
END:STANDARD
BEGIN:DAYLIGHT
TZOFFSETFROM:+0100
TZOFFSETTO:+0200
TZNAME:CEST
DTSTART:20260329T010000
END:DAYLIGHT
BEGIN:STANDARD
TZOFFSETFROM:+0200
TZOFFSETTO:+0100
TZNAME:CET
DTSTART:20261025T010000
END:STANDARD
BEGIN:DAYLIGHT
TZOFFSETFROM:+0100
TZOFFSETTO:+0200
TZNAME:CEST
DTSTART:20270328T010000
END:DAYLIGHT
BEGIN:STANDARD
TZOFFSETFROM:+0200
TZOFFSETTO:+0100
TZNAME:CET
DTSTART:20271031T010000
END:STANDARD
END:VTIMEZONE
BEGIN:VEVENT
DTSTART;VALUE=DATE:20260502
DTEND;VALUE=DATE:20260503
DTSTAMP:20260421T125500
CREATED:20260316T072001Z
LAST-MODIFIED:20260316T073437Z
UID:16937-1777680000-1777766399@sternfreunde.de
SUMMARY:Norddeutsches Astrofotografentreffen (NAFT) Frühjahr 2026
DESCRIPTION:Das Norddeutsche Astrofotografentreffen\, kurz NAFT\, wird seit den 1970er Jahren von Astrofotografen für Astrofotografen ausgerichtet. Man trifft sich an einer geeigneten Stelle\, meistens sind die Gastgeber ein Astroverein oder eine Sternwarte. Wer Bilder zeigen will oder einen Vortrag halten will\, bringt die Sachen zu dem Treffen mit und trägt sich vor Ort auf dem legendären „Zettel“ ein\, es gibt also kein vorher publiziertes Vortragsprogramm.
URL:https://sternfreunde.de/event/norddeutsches-astrofotografentreffen-naft-fruehjahr-2026/
LOCATION:Sternwarte Braunschweig-Hondelage\, In den Heistern 5b\, Braunschweig\, 38108\, Germany
CATEGORIES:Tagungen
END:VEVENT
BEGIN:VEVENT
DTSTART;TZID=Europe/Berlin:20260502T090000
DTEND;TZID=Europe/Berlin:20260502T180000
DTSTAMP:20260421T125500
CREATED:20260208T215143Z
LAST-MODIFIED:20260208T215143Z
UID:16824-1777712400-1777744800@sternfreunde.de
SUMMARY:Astronomieworkshop des Astronomischen Arbeitskreises Salzkammergut 2026
DESCRIPTION:Ganztägiges Tagungsprogramm aus allen Bereichen der Amateurastronomie. Am Folgetag findet der Pixinsight-Workshop statt.
URL:https://sternfreunde.de/event/astronomieworkshop-des-astronomischen-arbeitskreises-salzkammergut-2026/
LOCATION:Pfarr- und Gemeindezentrum Weyregg am Attersee\, Wachtbergstraße 4\, Weyregg am Attersee\, 4852
CATEGORIES:Tagungen
ORGANIZER;CN="Astronomischer Arbeitskreis Salzkammergut":MAILTO:info@astronomie.at
END:VEVENT
END:VCALENDAR