BEGIN:VCALENDAR
VERSION:2.0
PRODID:-//Vereinigung der Sternfreunde e.V. - ECPv6.15.20//NONSGML v1.0//EN
CALSCALE:GREGORIAN
METHOD:PUBLISH
X-WR-CALNAME:Vereinigung der Sternfreunde e.V.
X-ORIGINAL-URL:https://sternfreunde.de
X-WR-CALDESC:Veranstaltungen für Vereinigung der Sternfreunde e.V.
REFRESH-INTERVAL;VALUE=DURATION:PT1H
X-Robots-Tag:noindex
X-PUBLISHED-TTL:PT1H
BEGIN:VTIMEZONE
TZID:Europe/Berlin
BEGIN:DAYLIGHT
TZOFFSETFROM:+0100
TZOFFSETTO:+0200
TZNAME:CEST
DTSTART:20260329T010000
END:DAYLIGHT
BEGIN:STANDARD
TZOFFSETFROM:+0200
TZOFFSETTO:+0100
TZNAME:CET
DTSTART:20261025T010000
END:STANDARD
BEGIN:DAYLIGHT
TZOFFSETFROM:+0100
TZOFFSETTO:+0200
TZNAME:CEST
DTSTART:20270328T010000
END:DAYLIGHT
BEGIN:STANDARD
TZOFFSETFROM:+0200
TZOFFSETTO:+0100
TZNAME:CET
DTSTART:20271031T010000
END:STANDARD
BEGIN:DAYLIGHT
TZOFFSETFROM:+0100
TZOFFSETTO:+0200
TZNAME:CEST
DTSTART:20280326T010000
END:DAYLIGHT
BEGIN:STANDARD
TZOFFSETFROM:+0200
TZOFFSETTO:+0100
TZNAME:CET
DTSTART:20281029T010000
END:STANDARD
END:VTIMEZONE
BEGIN:VEVENT
DTSTART;VALUE=DATE:20271029
DTEND;VALUE=DATE:20271101
DTSTAMP:20260423T122417
CREATED:20251031T093208Z
LAST-MODIFIED:20251031T093208Z
UID:15762-1824768000-1825027199@sternfreunde.de
SUMMARY:16. Stuttgarter CCD-Workshop
DESCRIPTION:Seit vor ca. 30 Jahren die ersten Schritte ins astronomische Digitalzeitalter begannen begleitet der alle zwei Jahre stattfindende „CCD-Workshop“ sowohl Anfänger als auch Experten bei allen Belangen rund um die digitale Himmelsfotografie. \n\n\n 
URL:https://sternfreunde.de/event/stuttgarter-ccd-workshop-2027/
LOCATION:Sternwarte Stuttgart\, Zur Uhlandshöhe 41\, Stuttgart\, 70188\, Deutschland
CATEGORIES:Tagungen
END:VEVENT
END:VCALENDAR