BEGIN:VCALENDAR
VERSION:2.0
PRODID:-//Vereinigung der Sternfreunde e.V. - ECPv6.15.20//NONSGML v1.0//EN
CALSCALE:GREGORIAN
METHOD:PUBLISH
X-WR-CALNAME:Vereinigung der Sternfreunde e.V.
X-ORIGINAL-URL:https://sternfreunde.de
X-WR-CALDESC:Veranstaltungen für Vereinigung der Sternfreunde e.V.
REFRESH-INTERVAL;VALUE=DURATION:PT1H
X-Robots-Tag:noindex
X-PUBLISHED-TTL:PT1H
BEGIN:VTIMEZONE
TZID:Europe/Berlin
BEGIN:DAYLIGHT
TZOFFSETFROM:+0100
TZOFFSETTO:+0200
TZNAME:CEST
DTSTART:20210328T010000
END:DAYLIGHT
BEGIN:STANDARD
TZOFFSETFROM:+0200
TZOFFSETTO:+0100
TZNAME:CET
DTSTART:20211031T010000
END:STANDARD
BEGIN:DAYLIGHT
TZOFFSETFROM:+0100
TZOFFSETTO:+0200
TZNAME:CEST
DTSTART:20220327T010000
END:DAYLIGHT
BEGIN:STANDARD
TZOFFSETFROM:+0200
TZOFFSETTO:+0100
TZNAME:CET
DTSTART:20221030T010000
END:STANDARD
BEGIN:DAYLIGHT
TZOFFSETFROM:+0100
TZOFFSETTO:+0200
TZNAME:CEST
DTSTART:20230326T010000
END:DAYLIGHT
BEGIN:STANDARD
TZOFFSETFROM:+0200
TZOFFSETTO:+0100
TZNAME:CET
DTSTART:20231029T010000
END:STANDARD
BEGIN:DAYLIGHT
TZOFFSETFROM:+0100
TZOFFSETTO:+0200
TZNAME:CEST
DTSTART:20240331T010000
END:DAYLIGHT
BEGIN:STANDARD
TZOFFSETFROM:+0200
TZOFFSETTO:+0100
TZNAME:CET
DTSTART:20241027T010000
END:STANDARD
END:VTIMEZONE
BEGIN:VEVENT
DTSTART;VALUE=DATE:20220331
DTEND;VALUE=DATE:20220404
DTSTAMP:20260424T123032
CREATED:20220730T134243Z
LAST-MODIFIED:20220730T134243Z
UID:8519-1648684800-1649030399@sternfreunde.de
SUMMARY:18. Sternfreundetreffen Harz (SFTH)
DESCRIPTION:Das Sternfreundetreffen Harz findet jedes Jahr im Frühjahr statt. Neben astronomischen Fachvorträgen gibt es die Möglichkeit sich mit Gleichgesinnten auszutauschen und über Teleskope\, Astrofotografie\, astronomische Reisen und vieles mehr zu unterhalten. Spontane Besucher sind immer herzlich willkommen\, diese müssen sich aber selbst um eine Unterkunft kümmern. Wer zelten will\, sollte bedenken\, dass Todtenrode auf einem Bergrücken in ca. 425 m Höhe liegt\, wo klare Aprilnächte durchweg frostig sind.
URL:https://sternfreunde.de/event/18-sternfreundetreffen-harz-sfth/
LOCATION:Zum alten Forsthaus Todtenrode\, Todtenrode 1\, Thale\, 06502
CATEGORIES:Teleskoptreffen,Vorträge
ORGANIZER;CN="Astronomische Gesellschaft Magdeburg e.V.":MAILTO:infomail@astronomie-magdeburg.de
END:VEVENT
BEGIN:VEVENT
DTSTART;VALUE=DATE:20230323
DTEND;VALUE=DATE:20230327
DTSTAMP:20260424T123032
CREATED:20231031T204202Z
LAST-MODIFIED:20231031T204202Z
UID:10649-1679529600-1679875199@sternfreunde.de
SUMMARY:19. Sternfreundetreffen Harz (SFTH)
DESCRIPTION:Das Sternfreundetreffen Harz findet jedes Jahr im Frühjahr statt. Neben astronomischen Fachvorträgen gibt es die Möglichkeit sich mit Gleichgesinnten auszutauschen und über Teleskope\, Astrofotografie\, astronomische Reisen und vieles mehr zu unterhalten. Spontane Besucher sind immer herzlich willkommen\, diese müssen sich aber selbst um eine Unterkunft kümmern. Wer zelten will\, sollte bedenken\, dass Todtenrode auf einem Bergrücken in ca. 425 m Höhe liegt\, wo klare Aprilnächte durchweg frostig sind.
URL:https://sternfreunde.de/event/19-sternfreundetreffen-harz-sfth-2023/
LOCATION:Zum alten Forsthaus Todtenrode\, Todtenrode 1\, Thale\, 06502
CATEGORIES:Teleskoptreffen,Vorträge
ORGANIZER;CN="Astronomische Gesellschaft Magdeburg e.V.":MAILTO:infomail@astronomie-magdeburg.de
END:VEVENT
BEGIN:VEVENT
DTSTART;VALUE=DATE:20220412
DTEND;VALUE=DATE:20220413
DTSTAMP:20260424T123032
CREATED:20220805T213519Z
LAST-MODIFIED:20220805T213528Z
UID:8585-1649721600-1649807999@sternfreunde.de
SUMMARY:Yuri's Night
DESCRIPTION:Yuri’s Night feiert den ersten bemannten Raumflug von Yuri Gagarin am 12. April 1961 und den ersten Space-Shuttle-Start am 12. April 1981. Veranstaltungen an verschiedenen Standorten weltweit.
URL:https://sternfreunde.de/event/yuris-night-2022/
CATEGORIES:Sonstiges
END:VEVENT
BEGIN:VEVENT
DTSTART;VALUE=DATE:20220422
DTEND;VALUE=DATE:20220425
DTSTAMP:20260424T123032
CREATED:20220813T101423Z
LAST-MODIFIED:20221123T191720Z
UID:8610-1650585600-1650844799@sternfreunde.de
SUMMARY:Frühjahrstreffen in Neu Göhren
DESCRIPTION:Familiäres Teleskoptreffen im Mecklenburgischen mit sehr guten Landhimmelbedingungen. Zweites Wochenende vom 29. April bis zum 1. Mai 2022.
URL:https://sternfreunde.de/event/fruehjahrstreffen-in-neu-goehren-2022/
LOCATION:Campingplatz Neu Göhren\, Bootsanleger und Campingplatz\, Neu Göhren\, 19294\, Deutschland
CATEGORIES:Teleskoptreffen
END:VEVENT
BEGIN:VEVENT
DTSTART;VALUE=DATE:20220430
DTEND;VALUE=DATE:20220503
DTSTAMP:20260424T123032
CREATED:20220409T094819Z
LAST-MODIFIED:20220409T094819Z
UID:8182-1651276800-1651535999@sternfreunde.de
SUMMARY:15th European Symposium for the Protection of the Night Sky
DESCRIPTION:Das englischsprachige Symposium rund um Lichtverschmutzung\, ihre Ursachen\, negative Auswirkungen und Maßnahmen zu ihrer Bekämpfung ist ein Treffen von Dark-Sky-Aktivisten aus Europa und findet in der Sternenstadt Fulda am Rande des Sternenparks Rhön statt. Registrierung und Beitragsanmeldung über die Tagungswebseite.
URL:https://sternfreunde.de/event/15th-european-symposium-for-the-protection-of-the-night-sky/
LOCATION:Vonderau Museum\, Jesuitenplatz 2\, Fulda\, 36037
CATEGORIES:Tagungen,VdS-Bezug
END:VEVENT
BEGIN:VEVENT
DTSTART;TZID=Europe/Berlin:20220430T100000
DTEND;TZID=Europe/Berlin:20220430T173000
DTSTAMP:20260424T123032
CREATED:20220307T233806Z
LAST-MODIFIED:20220414T171322Z
UID:7996-1651312800-1651339800@sternfreunde.de
SUMMARY:Würzburger Frühjahrstagung 2022
DESCRIPTION:Die 45. Würzburger Frühjahrstagung des Jahres 2022 findet online über Zoom statt. Als technische Voraussetzung zur Teilnahme von zu Hause aus ist lediglich ein Computer oder Mobilgerät mit Internetzugang notwendig. Zugangsdaten und detailliertes Programm unter https://sternfreunde.de/2022/04/14/45-wuerzburger-fruehjahrstagung-online-am-30-april-2022/
URL:https://sternfreunde.de/event/wuerzburger-fruehjahrstagung-2022/
CATEGORIES:Online,Tagungen,VdS-Bezug
ORGANIZER;CN="Dr. Dominik Els%C3%A4sser":MAILTO:dominik.elsaesser@tu-dortmund.de
END:VEVENT
END:VCALENDAR