BEGIN:VCALENDAR
VERSION:2.0
PRODID:-//Vereinigung der Sternfreunde e.V. - ECPv6.15.18//NONSGML v1.0//EN
CALSCALE:GREGORIAN
METHOD:PUBLISH
X-WR-CALNAME:Vereinigung der Sternfreunde e.V.
X-ORIGINAL-URL:https://sternfreunde.de
X-WR-CALDESC:Veranstaltungen für Vereinigung der Sternfreunde e.V.
REFRESH-INTERVAL;VALUE=DURATION:PT1H
X-Robots-Tag:noindex
X-PUBLISHED-TTL:PT1H
BEGIN:VTIMEZONE
TZID:Europe/Berlin
BEGIN:DAYLIGHT
TZOFFSETFROM:+0100
TZOFFSETTO:+0200
TZNAME:CEST
DTSTART:20250330T010000
END:DAYLIGHT
BEGIN:STANDARD
TZOFFSETFROM:+0200
TZOFFSETTO:+0100
TZNAME:CET
DTSTART:20251026T010000
END:STANDARD
BEGIN:DAYLIGHT
TZOFFSETFROM:+0100
TZOFFSETTO:+0200
TZNAME:CEST
DTSTART:20260329T010000
END:DAYLIGHT
BEGIN:STANDARD
TZOFFSETFROM:+0200
TZOFFSETTO:+0100
TZNAME:CET
DTSTART:20261025T010000
END:STANDARD
BEGIN:DAYLIGHT
TZOFFSETFROM:+0100
TZOFFSETTO:+0200
TZNAME:CEST
DTSTART:20270328T010000
END:DAYLIGHT
BEGIN:STANDARD
TZOFFSETFROM:+0200
TZOFFSETTO:+0100
TZNAME:CET
DTSTART:20271031T010000
END:STANDARD
END:VTIMEZONE
BEGIN:VEVENT
DTSTART;VALUE=DATE:20260314
DTEND;VALUE=DATE:20260315
DTSTAMP:20260421T124356
CREATED:20250629T051615Z
LAST-MODIFIED:20260312T182917Z
UID:14680-1773446400-1773532799@sternfreunde.de
SUMMARY:Würzburger Frühjahrstagung 2026
DESCRIPTION:Die Würzburger Frühjahrstagung ist das süddeutsche Gegenstück zur Bochumer Herbsttagung (BoHeTa) und bietet jedes Jahr ein breit gefächertes Vortragsprogramm aus allen Bereichen der Astronomie\, insbesondere aus den unterschiedlichen Fachgruppen der VdS.
URL:https://sternfreunde.de/event/wuerzburger-fruehjahrstagung-2026/
LOCATION:Friedrich-Koenig-Gymnasium Würzburg\, Friedrichstraße 22\, Würzburg\, Bayern\, 97082\, Deutschland
CATEGORIES:Tagungen,VdS-Bezug
ORGANIZER;CN="Dr. Dominik Els%C3%A4sser":MAILTO:dominik.elsaesser@tu-dortmund.de
END:VEVENT
BEGIN:VEVENT
DTSTART;VALUE=DATE:20260320
DTEND;VALUE=DATE:20260323
DTSTAMP:20260421T124356
CREATED:20250907T115741Z
LAST-MODIFIED:20250907T120356Z
UID:14867-1773964800-1774223999@sternfreunde.de
SUMMARY:46. AKM-Treffen des Arbeitskreises Meteore e.V.
DESCRIPTION:Der Arbeitskreis Meteore (AKM e.V.) vertritt die beiden VdS-Fachgruppen Atmosphärische Erscheinungen und Meteore. Schwerpunkt des AKM-Treffens sind wie jedes Jahr atmosphärische Leuchterscheinungen aller Art wie Meteore\, Feuerkugeln\, Halos\, Leuchtende Nachtwolke\, Polarlichter\, aber auch exotische Phänomene wie St.-Elms-Feuer und Kugelblitze. Eine Online-Teilnahme ist auch möglich.
URL:https://sternfreunde.de/event/akm-treffen-des-arbeitskreises-meteore-2026/
LOCATION:Jugendherberge Göttingen\, Habichtsweg 2\, Göttingen\, 37075\, Germany
CATEGORIES:Tagungen,VdS-Bezug
END:VEVENT
BEGIN:VEVENT
DTSTART;VALUE=DATE:20260328
DTEND;VALUE=DATE:20260329
DTSTAMP:20260421T124356
CREATED:20250923T134117Z
LAST-MODIFIED:20250923T134117Z
UID:14902-1774656000-1774742399@sternfreunde.de
SUMMARY:Astronomietag 2026
DESCRIPTION:Am Astronomietag bieten Sternwarten\, Vereine\, Planetarien\, Forschungsinstitute\, Museen und Einzelpersonen aus dem gesamten deutschen Sprachraum zahlreiche Aktivitäten an\, damit die allgemeine Öffentlichkeit einen Einblick in die Astronomie bekommt und den Sternhimmel live erleben kann – zentral koordiniert von der VdS. Der Astronomietag 2026 widmet sich dem Mond mit Goldenem Henkel\, dem Abendstern Venus und dem Riesenplaneten Jupiter. Lokale Veranstaltungen können über die Astronomietag-Webseite angemeldet und eingesehen werden.
URL:https://sternfreunde.de/event/astronomietag-2026/
CATEGORIES:VdS-Bezug,Vorträge
END:VEVENT
END:VCALENDAR